BEGIN:VCALENDAR
VERSION:2.0
PRODID:-//Angelsportverein Gro&szlig;wallstadt - ECPv6.15.20//NONSGML v1.0//EN
CALSCALE:GREGORIAN
METHOD:PUBLISH
X-ORIGINAL-URL:https://asvgrosswallstadt.de
X-WR-CALDESC:Veranstaltungen für Angelsportverein Gro&szlig;wallstadt
REFRESH-INTERVAL;VALUE=DURATION:PT1H
X-Robots-Tag:noindex
X-PUBLISHED-TTL:PT1H
BEGIN:VTIMEZONE
TZID:Europe/Berlin
BEGIN:DAYLIGHT
TZOFFSETFROM:+0100
TZOFFSETTO:+0200
TZNAME:CEST
DTSTART:20250330T010000
END:DAYLIGHT
BEGIN:STANDARD
TZOFFSETFROM:+0200
TZOFFSETTO:+0100
TZNAME:CET
DTSTART:20251026T010000
END:STANDARD
BEGIN:DAYLIGHT
TZOFFSETFROM:+0100
TZOFFSETTO:+0200
TZNAME:CEST
DTSTART:20260329T010000
END:DAYLIGHT
BEGIN:STANDARD
TZOFFSETFROM:+0200
TZOFFSETTO:+0100
TZNAME:CET
DTSTART:20261025T010000
END:STANDARD
BEGIN:DAYLIGHT
TZOFFSETFROM:+0100
TZOFFSETTO:+0200
TZNAME:CEST
DTSTART:20270328T010000
END:DAYLIGHT
BEGIN:STANDARD
TZOFFSETFROM:+0200
TZOFFSETTO:+0100
TZNAME:CET
DTSTART:20271031T010000
END:STANDARD
END:VTIMEZONE
BEGIN:VEVENT
DTSTART;TZID=Europe/Berlin:20261107T130000
DTEND;TZID=Europe/Berlin:20261107T180000
DTSTAMP:20260421T215501
CREATED:20251212T070001Z
LAST-MODIFIED:20251212T070001Z
UID:531-1794056400-1794074400@asvgrosswallstadt.de
SUMMARY:5. Arbeitseinsatz
DESCRIPTION:
URL:https://asvgrosswallstadt.de/event/5-arbeitseinsatz-2/
LOCATION:Anglerhütte/See
END:VEVENT
BEGIN:VEVENT
DTSTART;TZID=Europe/Berlin:20261114T170000
DTEND;TZID=Europe/Berlin:20261114T230000
DTSTAMP:20260421T215501
CREATED:20251023T112814Z
LAST-MODIFIED:20251212T070054Z
UID:195-1794675600-1794697200@asvgrosswallstadt.de
SUMMARY:Königsfeier
DESCRIPTION:
URL:https://asvgrosswallstadt.de/event/koenigsfeier/
LOCATION:Angelhütte
END:VEVENT
BEGIN:VEVENT
DTSTART;TZID=Europe/Berlin:20261128T130000
DTEND;TZID=Europe/Berlin:20261129T180000
DTSTAMP:20260421T215501
CREATED:20251023T113100Z
LAST-MODIFIED:20251212T070151Z
UID:200-1795870800-1795975200@asvgrosswallstadt.de
SUMMARY:Weihnachtsmarkt
DESCRIPTION:
URL:https://asvgrosswallstadt.de/event/weihnachtsmarkt/
LOCATION:Dorfmitte
END:VEVENT
END:VCALENDAR