BEGIN:VCALENDAR
VERSION:2.0
PRODID:-//Angelsportverein Gro&szlig;wallstadt - ECPv6.15.20//NONSGML v1.0//EN
CALSCALE:GREGORIAN
METHOD:PUBLISH
X-WR-CALNAME:Angelsportverein Gro&szlig;wallstadt
X-ORIGINAL-URL:https://asvgrosswallstadt.de
X-WR-CALDESC:Veranstaltungen für Angelsportverein Gro&szlig;wallstadt
REFRESH-INTERVAL;VALUE=DURATION:PT1H
X-Robots-Tag:noindex
X-PUBLISHED-TTL:PT1H
BEGIN:VTIMEZONE
TZID:Europe/Berlin
BEGIN:DAYLIGHT
TZOFFSETFROM:+0100
TZOFFSETTO:+0200
TZNAME:CEST
DTSTART:20250330T010000
END:DAYLIGHT
BEGIN:STANDARD
TZOFFSETFROM:+0200
TZOFFSETTO:+0100
TZNAME:CET
DTSTART:20251026T010000
END:STANDARD
BEGIN:DAYLIGHT
TZOFFSETFROM:+0100
TZOFFSETTO:+0200
TZNAME:CEST
DTSTART:20260329T010000
END:DAYLIGHT
BEGIN:STANDARD
TZOFFSETFROM:+0200
TZOFFSETTO:+0100
TZNAME:CET
DTSTART:20261025T010000
END:STANDARD
BEGIN:DAYLIGHT
TZOFFSETFROM:+0100
TZOFFSETTO:+0200
TZNAME:CEST
DTSTART:20270328T010000
END:DAYLIGHT
BEGIN:STANDARD
TZOFFSETFROM:+0200
TZOFFSETTO:+0100
TZNAME:CET
DTSTART:20271031T010000
END:STANDARD
END:VTIMEZONE
BEGIN:VEVENT
DTSTART;TZID=Europe/Berlin:20260905T000000
DTEND;TZID=Europe/Berlin:20260906T235959
DTSTAMP:20260421T184252
CREATED:20251212T065144Z
LAST-MODIFIED:20251212T065144Z
UID:521-1788566400-1788739199@asvgrosswallstadt.de
SUMMARY:Fischfest
DESCRIPTION:
URL:https://asvgrosswallstadt.de/event/fischfest/
LOCATION:Anglerhütte/See
END:VEVENT
BEGIN:VEVENT
DTSTART;TZID=Europe/Berlin:20260920T064500
DTEND;TZID=Europe/Berlin:20260920T120000
DTSTAMP:20260421T184252
CREATED:20251212T065315Z
LAST-MODIFIED:20251212T065722Z
UID:523-1789886700-1789905600@asvgrosswallstadt.de
SUMMARY:3. Vereinsfischen
DESCRIPTION:06:45 Treffen / 07:30 Beginn
URL:https://asvgrosswallstadt.de/event/3-vereinsfischen/
LOCATION:Main
END:VEVENT
END:VCALENDAR