BEGIN:VCALENDAR
VERSION:2.0
PRODID:-//Angelsportverein Gro&szlig;wallstadt - ECPv6.15.20//NONSGML v1.0//EN
CALSCALE:GREGORIAN
METHOD:PUBLISH
X-WR-CALNAME:Angelsportverein Gro&szlig;wallstadt
X-ORIGINAL-URL:https://asvgrosswallstadt.de
X-WR-CALDESC:Veranstaltungen für Angelsportverein Gro&szlig;wallstadt
REFRESH-INTERVAL;VALUE=DURATION:PT1H
X-Robots-Tag:noindex
X-PUBLISHED-TTL:PT1H
BEGIN:VTIMEZONE
TZID:Europe/Berlin
BEGIN:DAYLIGHT
TZOFFSETFROM:+0100
TZOFFSETTO:+0200
TZNAME:CEST
DTSTART:20250330T010000
END:DAYLIGHT
BEGIN:STANDARD
TZOFFSETFROM:+0200
TZOFFSETTO:+0100
TZNAME:CET
DTSTART:20251026T010000
END:STANDARD
BEGIN:DAYLIGHT
TZOFFSETFROM:+0100
TZOFFSETTO:+0200
TZNAME:CEST
DTSTART:20260329T010000
END:DAYLIGHT
BEGIN:STANDARD
TZOFFSETFROM:+0200
TZOFFSETTO:+0100
TZNAME:CET
DTSTART:20261025T010000
END:STANDARD
BEGIN:DAYLIGHT
TZOFFSETFROM:+0100
TZOFFSETTO:+0200
TZNAME:CEST
DTSTART:20270328T010000
END:DAYLIGHT
BEGIN:STANDARD
TZOFFSETFROM:+0200
TZOFFSETTO:+0100
TZNAME:CET
DTSTART:20271031T010000
END:STANDARD
END:VTIMEZONE
BEGIN:VEVENT
DTSTART;TZID=Europe/Berlin:20260509T090000
DTEND;TZID=Europe/Berlin:20260509T130000
DTSTAMP:20260421T131653
CREATED:20251212T064238Z
LAST-MODIFIED:20251212T064238Z
UID:513-1778317200-1778331600@asvgrosswallstadt.de
SUMMARY:2. Arbeitseinsatz
DESCRIPTION:
URL:https://asvgrosswallstadt.de/event/2-arbeitseinsatz/
LOCATION:Anglerhütte/See
END:VEVENT
BEGIN:VEVENT
DTSTART;TZID=Europe/Berlin:20260529T170000
DTEND;TZID=Europe/Berlin:20260531T170000
DTSTAMP:20260421T131653
CREATED:20251212T070400Z
LAST-MODIFIED:20251212T070400Z
UID:536-1780074000-1780246800@asvgrosswallstadt.de
SUMMARY:1. Jugendangeln
DESCRIPTION:
URL:https://asvgrosswallstadt.de/event/1-jugendangeln/
LOCATION:Angelsee
END:VEVENT
END:VCALENDAR