BEGIN:VCALENDAR
VERSION:2.0
PRODID:-//Angelsportverein Gro&szlig;wallstadt - ECPv6.15.20//NONSGML v1.0//EN
CALSCALE:GREGORIAN
METHOD:PUBLISH
X-WR-CALNAME:Angelsportverein Gro&szlig;wallstadt
X-ORIGINAL-URL:https://asvgrosswallstadt.de
X-WR-CALDESC:Veranstaltungen für Angelsportverein Gro&szlig;wallstadt
REFRESH-INTERVAL;VALUE=DURATION:PT1H
X-Robots-Tag:noindex
X-PUBLISHED-TTL:PT1H
BEGIN:VTIMEZONE
TZID:Europe/Berlin
BEGIN:DAYLIGHT
TZOFFSETFROM:+0100
TZOFFSETTO:+0200
TZNAME:CEST
DTSTART:20240331T010000
END:DAYLIGHT
BEGIN:STANDARD
TZOFFSETFROM:+0200
TZOFFSETTO:+0100
TZNAME:CET
DTSTART:20241027T010000
END:STANDARD
BEGIN:DAYLIGHT
TZOFFSETFROM:+0100
TZOFFSETTO:+0200
TZNAME:CEST
DTSTART:20250330T010000
END:DAYLIGHT
BEGIN:STANDARD
TZOFFSETFROM:+0200
TZOFFSETTO:+0100
TZNAME:CET
DTSTART:20251026T010000
END:STANDARD
BEGIN:DAYLIGHT
TZOFFSETFROM:+0100
TZOFFSETTO:+0200
TZNAME:CEST
DTSTART:20260329T010000
END:DAYLIGHT
BEGIN:STANDARD
TZOFFSETFROM:+0200
TZOFFSETTO:+0100
TZNAME:CET
DTSTART:20261025T010000
END:STANDARD
BEGIN:DAYLIGHT
TZOFFSETFROM:+0100
TZOFFSETTO:+0200
TZNAME:CEST
DTSTART:20270328T010000
END:DAYLIGHT
BEGIN:STANDARD
TZOFFSETFROM:+0200
TZOFFSETTO:+0100
TZNAME:CET
DTSTART:20271031T010000
END:STANDARD
END:VTIMEZONE
BEGIN:VEVENT
DTSTART;TZID=Europe/Berlin:20260411T140000
DTEND;TZID=Europe/Berlin:20260411T190000
DTSTAMP:20260421T115143
CREATED:20251212T064126Z
LAST-MODIFIED:20251212T064126Z
UID:511-1775916000-1775934000@asvgrosswallstadt.de
SUMMARY:Anangeln
DESCRIPTION:
URL:https://asvgrosswallstadt.de/event/anangeln/
LOCATION:Angelsee
END:VEVENT
BEGIN:VEVENT
DTSTART;TZID=Europe/Berlin:20260313T193000
DTEND;TZID=Europe/Berlin:20260313T220000
DTSTAMP:20260421T115143
CREATED:20251023T113431Z
LAST-MODIFIED:20251030T141501Z
UID:208-1773430200-1773439200@asvgrosswallstadt.de
SUMMARY:Jahreshauptversammlung
DESCRIPTION:
URL:https://asvgrosswallstadt.de/event/jahreshauptversammlung/
LOCATION:Angelhütte
END:VEVENT
BEGIN:VEVENT
DTSTART;TZID=Europe/Berlin:20260221T130000
DTEND;TZID=Europe/Berlin:20260221T130000
DTSTAMP:20260421T115143
CREATED:20251212T063918Z
LAST-MODIFIED:20251212T064432Z
UID:509-1771678800-1771678800@asvgrosswallstadt.de
SUMMARY:1. Arbeitseinsatz
DESCRIPTION:
URL:https://asvgrosswallstadt.de/event/1-arbeitseinsatz/
LOCATION:Anglerhütte/See
END:VEVENT
BEGIN:VEVENT
DTSTART;TZID=Europe/Berlin:20260117T180000
DTEND;TZID=Europe/Berlin:20260117T220000
DTSTAMP:20260421T115143
CREATED:20251023T113312Z
LAST-MODIFIED:20251030T141531Z
UID:206-1768672800-1768687200@asvgrosswallstadt.de
SUMMARY:Lakefleischessen
DESCRIPTION:
URL:https://asvgrosswallstadt.de/event/lakefleischessen/
LOCATION:Angelhütte
END:VEVENT
BEGIN:VEVENT
DTSTART;TZID=Europe/Berlin:20251108T130000
DTEND;TZID=Europe/Berlin:20251108T170000
DTSTAMP:20260421T115143
CREATED:20251023T112946Z
LAST-MODIFIED:20251030T141749Z
UID:197-1762606800-1762621200@asvgrosswallstadt.de
SUMMARY:5. Arbeitseinsatz
DESCRIPTION:
URL:https://asvgrosswallstadt.de/event/5-arbeitseinsatz/
LOCATION:Anglerhütte/See
END:VEVENT
END:VCALENDAR